Package: ArrayExpress Version: 1.67.0 Command: /Library/Frameworks/R.framework/Resources/bin/R CMD INSTALL ArrayExpress StartedAt: 2025-02-03 15:18:58 -0500 (Mon, 03 Feb 2025) EndedAt: 2025-02-03 15:18:59 -0500 (Mon, 03 Feb 2025) EllapsedTime: 1.5 seconds RetCode: 1 Status: ERROR