Package: ArrayExpress Version: 1.67.0 Maintainer: Jose Marugan MaintainerEmail: jcmarca at ebi.ac.uk git_url: https://git.bioconductor.org/packages/ArrayExpress git_branch: devel git_last_commit: 2b97e7e git_last_commit_date: 2024-10-29 09:30:06 -0500 (Tue, 29 Oct 2024)