Package: AnnotationHubData Version: 1.37.0 Command: /Library/Frameworks/R.framework/Resources/bin/R CMD check --install=check:AnnotationHubData.install-out.txt --library=/Library/Frameworks/R.framework/Resources/library --no-vignettes --timings AnnotationHubData_1.37.0.tar.gz StartedAt: 2025-02-19 18:50:16 -0500 (Wed, 19 Feb 2025) EndedAt: 2025-02-19 19:00:43 -0500 (Wed, 19 Feb 2025) EllapsedTime: 627.5 seconds RetCode: 0 Status: WARNINGS CheckDir: AnnotationHubData.Rcheck Warnings: 1