Package: AnnotationHubData Version: 1.37.0 Command: /home/biocbuild/R/R/bin/R CMD check --install=check:AnnotationHubData.install-out.txt --library=/home/biocbuild/R/R/site-library --no-vignettes --timings AnnotationHubData_1.37.0.tar.gz StartedAt: 2025-01-28 03:33:09 -0000 (Tue, 28 Jan 2025) EndedAt: 2025-01-28 03:45:27 -0000 (Tue, 28 Jan 2025) EllapsedTime: 738.0 seconds RetCode: 0 Status: WARNINGS CheckDir: AnnotationHubData.Rcheck Warnings: 6