Package: AnnotationHubData Version: 1.37.0 Command: /Library/Frameworks/R.framework/Resources/bin/R CMD build --keep-empty-dirs --no-resave-data AnnotationHubData StartedAt: 2025-02-20 15:33:23 -0500 (Thu, 20 Feb 2025) EndedAt: 2025-02-20 15:33:40 -0500 (Thu, 20 Feb 2025) EllapsedTime: 16.2 seconds RetCode: 0 Status: OK PackageFile: AnnotationHubData_1.37.0.tar.gz PackageFileSize: 400.4 KiB