Package: AnnotationHub Version: 3.99.6 Command: chmod a+r AnnotationHub -R && F:\biocbuild\bbs-3.22-bioc\R\bin\R.exe CMD build --keep-empty-dirs --no-resave-data AnnotationHub StartedAt: 2025-08-14 18:25:44 -0400 (Thu, 14 Aug 2025) EndedAt: 2025-08-14 18:31:16 -0400 (Thu, 14 Aug 2025) EllapsedTime: 331.4 seconds RetCode: 0 Status: OK PackageFile: AnnotationHub_3.99.6.tar.gz PackageFileSize: 978.4 KiB