Package: AnnotationHub Version: 3.99.6 Command: rm -rf AnnotationHub.buildbin-libdir && mkdir AnnotationHub.buildbin-libdir && F:\biocbuild\bbs-3.22-bioc\R\bin\R.exe CMD INSTALL --build --library=AnnotationHub.buildbin-libdir AnnotationHub_3.99.6.tar.gz StartedAt: 2025-08-15 09:43:26 -0400 (Fri, 15 Aug 2025) EndedAt: 2025-08-15 09:44:45 -0400 (Fri, 15 Aug 2025) EllapsedTime: 78.3 seconds RetCode: 0 Status: OK PackageFile: AnnotationHub_3.99.6.zip PackageFileSize: 1.245 MiB