Package: AnnotationHub Version: 3.15.0 Command: /home/biocbuild/bbs-3.21-bioc/R/bin/R CMD INSTALL AnnotationHub StartedAt: 2025-02-03 15:33:54 -0500 (Mon, 03 Feb 2025) EndedAt: 2025-02-03 15:34:12 -0500 (Mon, 03 Feb 2025) EllapsedTime: 17.5 seconds RetCode: 0 Status: OK