Package: AnnotationHub Version: 3.99.6 Command: rm -rf AnnotationHub.buildbin-libdir && mkdir AnnotationHub.buildbin-libdir && /Users/biocbuild/BBS/utils/build-universal.sh AnnotationHub_3.99.6.tar.gz /Library/Frameworks/R.framework/Resources/bin/R AnnotationHub.buildbin-libdir StartedAt: 2025-10-01 01:29:57 -0400 (Wed, 01 Oct 2025) EndedAt: 2025-10-01 01:30:24 -0400 (Wed, 01 Oct 2025) EllapsedTime: 27.9 seconds RetCode: 0 Status: OK PackageFile: AnnotationHub_3.99.6.tgz PackageFileSize: 1.238 MiB