Package: AnnotationHub Version: 3.15.0 Command: /home/biocbuild/R/R/bin/R CMD check --install=check:AnnotationHub.install-out.txt --library=/home/biocbuild/R/R/site-library --no-vignettes --timings AnnotationHub_3.15.0.tar.gz StartedAt: 2025-01-28 03:32:58 -0000 (Tue, 28 Jan 2025) EndedAt: 2025-01-28 03:42:16 -0000 (Tue, 28 Jan 2025) EllapsedTime: 557.8 seconds RetCode: 0 Status: OK CheckDir: AnnotationHub.Rcheck Warnings: 0