Package: AnnotationHub Version: 3.15.0 Command: /home/biocbuild/R/R/bin/R CMD build --keep-empty-dirs --no-resave-data AnnotationHub StartedAt: 2025-01-29 20:49:53 -0000 (Wed, 29 Jan 2025) EndedAt: 2025-01-29 20:53:22 -0000 (Wed, 29 Jan 2025) EllapsedTime: 209.1 seconds RetCode: 0 Status: OK PackageFile: AnnotationHub_3.15.0.tar.gz PackageFileSize: 1.023 MiB