Package: AnnotationForge Version: 1.49.0 Command: /Library/Frameworks/R.framework/Resources/bin/R CMD build --keep-empty-dirs --no-resave-data AnnotationForge StartedAt: 2025-02-03 16:07:54 -0500 (Mon, 03 Feb 2025) EndedAt: 2025-02-03 16:29:10 -0500 (Mon, 03 Feb 2025) EllapsedTime: 1276.5 seconds RetCode: 0 Status: OK PackageFile: AnnotationForge_1.49.0.tar.gz PackageFileSize: 3.84 MiB