Package: AnnotationForge Version: 1.49.0 Command: rm -rf AnnotationForge.buildbin-libdir && mkdir AnnotationForge.buildbin-libdir && /Users/biocbuild/BBS/utils/build-universal.sh AnnotationForge_1.49.0.tar.gz /Library/Frameworks/R.framework/Resources/bin/R AnnotationForge.buildbin-libdir StartedAt: 2025-02-03 22:41:35 -0500 (Mon, 03 Feb 2025) EndedAt: 2025-02-03 22:41:43 -0500 (Mon, 03 Feb 2025) EllapsedTime: 8.2 seconds RetCode: 0 Status: OK PackageFile: AnnotationForge_1.49.0.tgz PackageFileSize: 4.186 MiB