Package: AnnotationDbi Version: 1.69.0 Command: rm -rf AnnotationDbi.buildbin-libdir && mkdir AnnotationDbi.buildbin-libdir && E:\biocbuild\bbs-3.21-bioc\R\bin\R.exe CMD INSTALL --build --library=AnnotationDbi.buildbin-libdir AnnotationDbi_1.69.0.tar.gz StartedAt: 2025-02-21 07:32:35 -0500 (Fri, 21 Feb 2025) EndedAt: 2025-02-21 07:36:04 -0500 (Fri, 21 Feb 2025) EllapsedTime: 209.4 seconds RetCode: 0 Status: OK PackageFile: AnnotationDbi_1.69.0.zip PackageFileSize: 5.038 MiB