Package: AnnotationDbi Version: 1.69.0 Command: /home/biocbuild/bbs-3.21-bioc/R/bin/R CMD build --keep-empty-dirs --no-resave-data AnnotationDbi StartedAt: 2025-02-20 16:25:44 -0500 (Thu, 20 Feb 2025) EndedAt: 2025-02-20 16:26:38 -0500 (Thu, 20 Feb 2025) EllapsedTime: 54.1 seconds RetCode: 0 Status: OK PackageFile: AnnotationDbi_1.69.0.tar.gz PackageFileSize: 4.171 MiB