Package: AneuFinder Version: 1.35.1 Command: chmod a+r AneuFinder -R && F:\biocbuild\bbs-3.22-bioc\R\bin\R.exe CMD build --keep-empty-dirs --no-resave-data AneuFinder StartedAt: 2025-04-08 17:28:42 -0400 (Tue, 08 Apr 2025) EndedAt: 2025-04-08 17:28:53 -0400 (Tue, 08 Apr 2025) EllapsedTime: 10.4 seconds RetCode: 1 Status: ERROR PackageFile: None PackageFileSize: NA