Package: AneuFinder Version: 1.35.0 Command: /home/biocbuild/bbs-3.21-bioc/R/bin/R CMD INSTALL AneuFinder StartedAt: 2025-02-18 15:22:59 -0500 (Tue, 18 Feb 2025) EndedAt: 2025-02-18 15:23:01 -0500 (Tue, 18 Feb 2025) EllapsedTime: 2.3 seconds RetCode: 1 Status: ERROR