Package: AneuFinder Version: 1.35.1 Maintainer: Aaron Taudt MaintainerEmail: aaron.taudt at gmail.com git_url: https://git.bioconductor.org/packages/AneuFinder git_branch: devel git_last_commit: c4b7a76 git_last_commit_date: 2025-03-26 11:12:56 -0400 (Wed, 26 Mar 2025)