Package: Anaquin Version: 2.33.0 Command: chmod a+r Anaquin -R && F:\biocbuild\bbs-3.22-bioc\R\bin\R.exe CMD build --keep-empty-dirs --no-resave-data Anaquin StartedAt: 2025-08-14 18:24:55 -0400 (Thu, 14 Aug 2025) EndedAt: 2025-08-14 18:25:43 -0400 (Thu, 14 Aug 2025) EllapsedTime: 48.1 seconds RetCode: 0 Status: OK PackageFile: Anaquin_2.33.0.tar.gz PackageFileSize: 451.5 KiB