Package: Anaquin Version: 2.31.0 Command: /home/biocbuild/bbs-3.21-bioc/R/bin/R CMD INSTALL Anaquin StartedAt: 2025-02-03 15:30:40 -0500 (Mon, 03 Feb 2025) EndedAt: 2025-02-03 15:30:44 -0500 (Mon, 03 Feb 2025) EllapsedTime: 4.6 seconds RetCode: 0 Status: OK