Package: Anaquin Version: 2.31.0 Command: /home/biocbuild/bbs-3.21-bioc/R/bin/R CMD check --install=check:Anaquin.install-out.txt --library=/home/biocbuild/bbs-3.21-bioc/R/site-library --timings Anaquin_2.31.0.tar.gz StartedAt: 2025-02-03 20:07:41 -0500 (Mon, 03 Feb 2025) EndedAt: 2025-02-03 20:08:53 -0500 (Mon, 03 Feb 2025) EllapsedTime: 72.1 seconds RetCode: 0 Status: OK CheckDir: Anaquin.Rcheck Warnings: 0