Package: Anaquin Version: 2.31.0 Command: /home/biocbuild/bbs-3.21-bioc/R/bin/R CMD build --keep-empty-dirs --no-resave-data Anaquin StartedAt: 2025-02-03 16:16:43 -0500 (Mon, 03 Feb 2025) EndedAt: 2025-02-03 16:17:05 -0500 (Mon, 03 Feb 2025) EllapsedTime: 22.0 seconds RetCode: 0 Status: OK PackageFile: Anaquin_2.31.0.tar.gz PackageFileSize: 451.7 KiB