Package: Anaquin Version: 2.31.0 Command: /Library/Frameworks/R.framework/Resources/bin/R CMD build --keep-empty-dirs --no-resave-data Anaquin StartedAt: 2025-02-03 15:56:44 -0500 (Mon, 03 Feb 2025) EndedAt: 2025-02-03 15:57:14 -0500 (Mon, 03 Feb 2025) EllapsedTime: 29.8 seconds RetCode: 0 Status: OK PackageFile: Anaquin_2.31.0.tar.gz PackageFileSize: 452.5 KiB