Package: Anaquin Version: 2.33.0 Command: /Library/Frameworks/R.framework/Resources/bin/R CMD INSTALL Anaquin StartedAt: 2025-04-27 15:13:45 -0400 (Sun, 27 Apr 2025) EndedAt: 2025-04-27 15:13:48 -0400 (Sun, 27 Apr 2025) EllapsedTime: 2.7 seconds RetCode: 0 Status: OK