Package: Anaquin Version: 2.31.0 Command: /Library/Frameworks/R.framework/Resources/bin/R CMD check --install=check:Anaquin.install-out.txt --library=/Library/Frameworks/R.framework/Resources/library --no-vignettes --timings Anaquin_2.31.0.tar.gz StartedAt: 2025-02-03 18:38:46 -0500 (Mon, 03 Feb 2025) EndedAt: 2025-02-03 18:39:11 -0500 (Mon, 03 Feb 2025) EllapsedTime: 25.3 seconds RetCode: 0 Status: OK CheckDir: Anaquin.Rcheck Warnings: 0