Package: AnVILWorkflow Version: 1.7.2 Command: /home/biocbuild/bbs-3.21-bioc/R/bin/R CMD INSTALL AnVILWorkflow StartedAt: 2025-02-03 15:20:21 -0500 (Mon, 03 Feb 2025) EndedAt: 2025-02-03 15:20:31 -0500 (Mon, 03 Feb 2025) EllapsedTime: 9.3 seconds RetCode: 0 Status: OK