Package: AnVILWorkflow Version: 1.7.2 Command: /home/biocbuild/bbs-3.21-bioc/R/bin/R CMD check --install=check:AnVILWorkflow.install-out.txt --library=/home/biocbuild/bbs-3.21-bioc/R/site-library --timings AnVILWorkflow_1.7.2.tar.gz StartedAt: 2025-02-03 20:10:41 -0500 (Mon, 03 Feb 2025) EndedAt: 2025-02-03 20:11:15 -0500 (Mon, 03 Feb 2025) EllapsedTime: 34.1 seconds RetCode: 0 Status: OK CheckDir: AnVILWorkflow.Rcheck Warnings: 0