Package: AnVILWorkflow Version: 1.7.2 Command: /Library/Frameworks/R.framework/Resources/bin/R CMD build --keep-empty-dirs --no-resave-data AnVILWorkflow StartedAt: 2025-02-03 15:57:49 -0500 (Mon, 03 Feb 2025) EndedAt: 2025-02-03 15:58:05 -0500 (Mon, 03 Feb 2025) EllapsedTime: 16.0 seconds RetCode: 0 Status: OK PackageFile: AnVILWorkflow_1.7.2.tar.gz PackageFileSize: 1.116 MiB