Package: AnVILWorkflow Version: 1.7.2 Maintainer: Sehyun Oh MaintainerEmail: shbrief at gmail.com git_url: https://git.bioconductor.org/packages/AnVILWorkflow git_branch: devel git_last_commit: 45bb4f7 git_last_commit_date: 2025-01-23 12:55:18 -0500 (Thu, 23 Jan 2025)