Package: AnVILPublish Version: 1.19.1 Command: /home/biocbuild/bbs-3.22-bioc/R/bin/R CMD INSTALL AnVILPublish StartedAt: 2025-10-24 15:19:56 -0400 (Fri, 24 Oct 2025) EndedAt: 2025-10-24 15:20:07 -0400 (Fri, 24 Oct 2025) EllapsedTime: 10.7 seconds RetCode: 0 Status: OK