Package: AnVILPublish Version: 1.19.1 Command: /home/biocbuild/bbs-3.22-bioc/R/bin/R CMD build --keep-empty-dirs --no-resave-data --md5 AnVILPublish StartedAt: 2025-10-24 16:23:12 -0400 (Fri, 24 Oct 2025) EndedAt: 2025-10-24 16:23:21 -0400 (Fri, 24 Oct 2025) EllapsedTime: 9.0 seconds RetCode: 0 Status: OK PackageFile: AnVILPublish_1.19.1.tar.gz PackageFileSize: 236.7 KiB