Package: AnVILBilling Version: 1.17.0 Command: /home/biocbuild/bbs-3.21-bioc/R/bin/R CMD check --install=check:AnVILBilling.install-out.txt --library=/home/biocbuild/bbs-3.21-bioc/R/site-library --timings AnVILBilling_1.17.0.tar.gz StartedAt: 2025-02-05 20:01:42 -0500 (Wed, 05 Feb 2025) EndedAt: 2025-02-05 20:02:37 -0500 (Wed, 05 Feb 2025) EllapsedTime: 55.1 seconds RetCode: 0 Status: OK CheckDir: AnVILBilling.Rcheck Warnings: 0