Package: AnVILBilling Version: 1.17.0 Command: rm -rf AnVILBilling.buildbin-libdir && mkdir AnVILBilling.buildbin-libdir && /Users/biocbuild/BBS/utils/build-universal.sh AnVILBilling_1.17.0.tar.gz /Library/Frameworks/R.framework/Resources/bin/R AnVILBilling.buildbin-libdir StartedAt: 2025-02-04 00:22:43 -0500 (Tue, 04 Feb 2025) EndedAt: 2025-02-04 00:22:57 -0500 (Tue, 04 Feb 2025) EllapsedTime: 13.9 seconds RetCode: 0 Status: OK PackageFile: AnVILBilling_1.17.0.tgz PackageFileSize: 742.8 KiB