Package: AnVILBilling Version: 1.17.0 Command: /home/biocbuild/R/R/bin/R CMD check --install=check:AnVILBilling.install-out.txt --library=/home/biocbuild/R/R/site-library --no-vignettes --timings AnVILBilling_1.17.0.tar.gz StartedAt: 2025-01-28 03:34:05 -0000 (Tue, 28 Jan 2025) EndedAt: 2025-01-28 03:35:09 -0000 (Tue, 28 Jan 2025) EllapsedTime: 64.1 seconds RetCode: 0 Status: OK CheckDir: AnVILBilling.Rcheck Warnings: 0