Package: AnVILBilling Version: 1.17.0 Command: /Library/Frameworks/R.framework/Resources/bin/R CMD check --install=check:AnVILBilling.install-out.txt --library=/Library/Frameworks/R.framework/Resources/library --no-vignettes --timings AnVILBilling_1.17.0.tar.gz StartedAt: 2025-02-03 18:40:07 -0500 (Mon, 03 Feb 2025) EndedAt: 2025-02-03 18:40:30 -0500 (Mon, 03 Feb 2025) EllapsedTime: 23.3 seconds RetCode: 0 Status: OK CheckDir: AnVILBilling.Rcheck Warnings: 0