Package: AnVILAz Version: 1.3.1 Maintainer: Marcel Ramos MaintainerEmail: marcel.ramos at sph.cuny.edu git_url: https://git.bioconductor.org/packages/AnVILAz git_branch: devel git_last_commit: 71d98aa git_last_commit_date: 2025-04-28 15:27:32 -0400 (Mon, 28 Apr 2025)