Package: AnVIL Version: 1.21.10 Command: /home/biocbuild/bbs-3.22-bioc/R/bin/R CMD INSTALL AnVIL StartedAt: 2025-10-06 15:08:58 -0400 (Mon, 06 Oct 2025) EndedAt: 2025-10-06 15:09:03 -0400 (Mon, 06 Oct 2025) EllapsedTime: 4.9 seconds RetCode: 0 Status: OK