Package: AnVIL Version: 1.21.10 Command: /home/biocbuild/bbs-3.22-bioc/R/bin/R CMD build --keep-empty-dirs --no-resave-data --md5 AnVIL StartedAt: 2025-10-06 16:11:16 -0400 (Mon, 06 Oct 2025) EndedAt: 2025-10-06 16:11:28 -0400 (Mon, 06 Oct 2025) EllapsedTime: 12.0 seconds RetCode: 0 Status: OK PackageFile: AnVIL_1.21.10.tar.gz PackageFileSize: 1.161 MiB