Package: AnVIL Version: 1.19.8 Command: /Library/Frameworks/R.framework/Resources/bin/R CMD build --keep-empty-dirs --no-resave-data AnVIL StartedAt: 2025-02-16 15:52:24 -0500 (Sun, 16 Feb 2025) EndedAt: 2025-02-16 15:52:51 -0500 (Sun, 16 Feb 2025) EllapsedTime: 27.4 seconds RetCode: 0 Status: OK PackageFile: AnVIL_1.19.8.tar.gz PackageFileSize: 1.191 MiB