Package: AlpsNMR Version: 4.9.0 Command: E:\biocbuild\bbs-3.21-bioc\R\bin\R.exe CMD check --no-multiarch --install=check:AlpsNMR.install-out.txt --library=E:\biocbuild\bbs-3.21-bioc\R\library --no-vignettes --timings AlpsNMR_4.9.0.tar.gz StartedAt: 2025-02-04 23:00:00 -0500 (Tue, 04 Feb 2025) EndedAt: 2025-02-04 23:09:45 -0500 (Tue, 04 Feb 2025) EllapsedTime: 584.7 seconds RetCode: 0 Status: OK CheckDir: AlpsNMR.Rcheck Warnings: 0