Package: AlpsNMR Version: 4.9.0 Command: chmod a+r AlpsNMR -R && E:\biocbuild\bbs-3.21-bioc\R\bin\R.exe CMD build --keep-empty-dirs --no-resave-data AlpsNMR StartedAt: 2025-02-04 17:08:38 -0500 (Tue, 04 Feb 2025) EndedAt: 2025-02-04 17:13:44 -0500 (Tue, 04 Feb 2025) EllapsedTime: 305.9 seconds RetCode: 0 Status: OK PackageFile: AlpsNMR_4.9.0.tar.gz PackageFileSize: 3.705 MiB