Package: AlpsNMR Version: 4.9.0 Command: rm -rf AlpsNMR.buildbin-libdir && mkdir AlpsNMR.buildbin-libdir && E:\biocbuild\bbs-3.21-bioc\R\bin\R.exe CMD INSTALL --build --library=AlpsNMR.buildbin-libdir AlpsNMR_4.9.0.tar.gz StartedAt: 2025-02-05 07:24:26 -0500 (Wed, 05 Feb 2025) EndedAt: 2025-02-05 07:25:45 -0500 (Wed, 05 Feb 2025) EllapsedTime: 78.9 seconds RetCode: 0 Status: OK PackageFile: AlpsNMR_4.9.0.zip PackageFileSize: 4.194 MiB