Package: AlpsNMR Version: 4.11.1 Command: /home/biocbuild/bbs-3.22-bioc/R/bin/R CMD INSTALL AlpsNMR StartedAt: 2025-10-16 16:08:41 -0400 (Thu, 16 Oct 2025) EndedAt: 2025-10-16 16:08:55 -0400 (Thu, 16 Oct 2025) EllapsedTime: 14.4 seconds RetCode: 0 Status: OK