Package: AlphaMissenseR Version: 1.3.0 Command: /home/biocbuild/bbs-3.21-bioc/R/bin/R CMD INSTALL AlphaMissenseR StartedAt: 2025-02-02 15:20:04 -0500 (Sun, 02 Feb 2025) EndedAt: 2025-02-02 15:20:11 -0500 (Sun, 02 Feb 2025) EllapsedTime: 7.0 seconds RetCode: 0 Status: OK