Package: AlphaMissenseR Version: 1.3.0 Command: /home/biocbuild/R/R/bin/R CMD check --install=check:AlphaMissenseR.install-out.txt --library=/home/biocbuild/R/R/site-library --no-vignettes --timings AlphaMissenseR_1.3.0.tar.gz StartedAt: 2025-01-27 04:18:23 -0000 (Mon, 27 Jan 2025) EndedAt: 2025-01-27 04:20:38 -0000 (Mon, 27 Jan 2025) EllapsedTime: 135.1 seconds RetCode: 0 Status: OK CheckDir: AlphaMissenseR.Rcheck Warnings: 0