Package: AlphaBeta Version: 1.23.0 Command: /Library/Frameworks/R.framework/Resources/bin/R CMD INSTALL AlphaBeta StartedAt: 2025-04-28 15:09:16 -0400 (Mon, 28 Apr 2025) EndedAt: 2025-04-28 15:09:41 -0400 (Mon, 28 Apr 2025) EllapsedTime: 24.0 seconds RetCode: 0 Status: OK