Package: AlphaBeta Version: 1.23.0 Command: /Library/Frameworks/R.framework/Resources/bin/R CMD check --install=check:AlphaBeta.install-out.txt --library=/Library/Frameworks/R.framework/Resources/library --no-vignettes --timings AlphaBeta_1.23.0.tar.gz StartedAt: 2025-04-29 18:57:46 -0400 (Tue, 29 Apr 2025) EndedAt: 2025-04-29 19:05:07 -0400 (Tue, 29 Apr 2025) EllapsedTime: 441.1 seconds RetCode: 0 Status: OK CheckDir: AlphaBeta.Rcheck Warnings: 0