Package: AlphaBeta Version: 1.23.0 Command: /Library/Frameworks/R.framework/Resources/bin/R CMD build --keep-empty-dirs --no-resave-data AlphaBeta StartedAt: 2025-05-09 15:38:12 -0400 (Fri, 09 May 2025) EndedAt: 2025-05-09 15:39:47 -0400 (Fri, 09 May 2025) EllapsedTime: 95.1 seconds RetCode: 0 Status: OK PackageFile: AlphaBeta_1.23.0.tar.gz PackageFileSize: 2.505 MiB