Package: AgiMicroRna Version: 2.57.0 Command: E:\biocbuild\bbs-3.21-bioc\R\bin\R.exe CMD check --no-multiarch --install=check:AgiMicroRna.install-out.txt --library=E:\biocbuild\bbs-3.21-bioc\R\library --no-vignettes --timings AgiMicroRna_2.57.0.tar.gz StartedAt: 2025-02-16 22:23:54 -0500 (Sun, 16 Feb 2025) EndedAt: 2025-02-16 22:31:17 -0500 (Sun, 16 Feb 2025) EllapsedTime: 442.0 seconds RetCode: 0 Status: WARNINGS CheckDir: AgiMicroRna.Rcheck Warnings: 1