Package: AgiMicroRna Version: 2.57.0 Command: rm -rf AgiMicroRna.buildbin-libdir && mkdir AgiMicroRna.buildbin-libdir && E:\biocbuild\bbs-3.21-bioc\R\bin\R.exe CMD INSTALL --build --library=AgiMicroRna.buildbin-libdir AgiMicroRna_2.57.0.tar.gz StartedAt: 2025-02-17 06:58:46 -0500 (Mon, 17 Feb 2025) EndedAt: 2025-02-17 07:00:16 -0500 (Mon, 17 Feb 2025) EllapsedTime: 89.9 seconds RetCode: 0 Status: OK PackageFile: AgiMicroRna_2.57.0.zip PackageFileSize: 3.423 MiB